BEGIN:VCALENDAR
VERSION:2.0
PRODID:-//Department of Entomology - ECPv6.1.3//NONSGML v1.0//EN
CALSCALE:GREGORIAN
METHOD:PUBLISH
X-ORIGINAL-URL:https://entomology.wsu.edu
X-WR-CALDESC:Events for Department of Entomology
REFRESH-INTERVAL;VALUE=DURATION:PT1H
X-Robots-Tag:noindex
X-PUBLISHED-TTL:PT1H
BEGIN:VTIMEZONE
TZID:America/Los_Angeles
BEGIN:DAYLIGHT
TZOFFSETFROM:-0800
TZOFFSETTO:-0700
TZNAME:PDT
DTSTART:20230312T100000
END:DAYLIGHT
BEGIN:STANDARD
TZOFFSETFROM:-0700
TZOFFSETTO:-0800
TZNAME:PST
DTSTART:20231105T090000
END:STANDARD
BEGIN:DAYLIGHT
TZOFFSETFROM:-0800
TZOFFSETTO:-0700
TZNAME:PDT
DTSTART:20240310T100000
END:DAYLIGHT
BEGIN:STANDARD
TZOFFSETFROM:-0700
TZOFFSETTO:-0800
TZNAME:PST
DTSTART:20241103T090000
END:STANDARD
BEGIN:DAYLIGHT
TZOFFSETFROM:-0800
TZOFFSETTO:-0700
TZNAME:PDT
DTSTART:20250309T100000
END:DAYLIGHT
BEGIN:STANDARD
TZOFFSETFROM:-0700
TZOFFSETTO:-0800
TZNAME:PST
DTSTART:20251102T090000
END:STANDARD
END:VTIMEZONE
BEGIN:VEVENT
DTSTART;TZID=America/Los_Angeles:20251201T080000
DTEND;TZID=America/Los_Angeles:20251201T170000
DTSTAMP:20260425T035924
CREATED:20251028T153322Z
LAST-MODIFIED:20251028T153322Z
UID:59635-1764576000-1764608400@entomology.wsu.edu
SUMMARY:Fiona Goggins
DESCRIPTION:
URL:https://entomology.wsu.edu/event/fiona-goggins/
END:VEVENT
BEGIN:VEVENT
DTSTART;TZID=America/Los_Angeles:20251117T080000
DTEND;TZID=America/Los_Angeles:20251117T170000
DTSTAMP:20260425T035924
CREATED:20251028T153230Z
LAST-MODIFIED:20251028T153230Z
UID:59633-1763366400-1763398800@entomology.wsu.edu
SUMMARY:Mckaela Whilden – WSU Honeybee Program
DESCRIPTION:
URL:https://entomology.wsu.edu/event/mckaela-whilden-wsu-honeybee-program/
END:VEVENT
BEGIN:VEVENT
DTSTART;TZID=America/Los_Angeles:20240326T120000
DTEND;TZID=America/Los_Angeles:20240326T130000
DTSTAMP:20260425T035924
CREATED:20240311T210055Z
LAST-MODIFIED:20240311T210055Z
UID:58870-1711454400-1711458000@entomology.wsu.edu
SUMMARY:Garett Slater Candidate Seminar Honey-bee and Pollinator Health
DESCRIPTION:Join Zoom Meeting from PC\, Mac\, Linux\, iOS\, or Android: https://wsu.zoom.us/j/95261849568?pwd=UFJTdk5SNG0yYnllTjRxbE5vZmEwZz09&from=addon\n\n\n \n\n\nMeeting ID: 952 6184 9568\n\n\nPasscode: 281798
URL:https://entomology.wsu.edu/event/garett-slater-candidate-seminar-honey-bee-and-pollinator-health/
LOCATION:FSHN 354\, Pullman
END:VEVENT
BEGIN:VEVENT
DTSTART;TZID=America/Los_Angeles:20240322T120000
DTEND;TZID=America/Los_Angeles:20240322T130000
DTSTAMP:20260425T035924
CREATED:20240311T205853Z
LAST-MODIFIED:20240311T205853Z
UID:58868-1711108800-1711112400@entomology.wsu.edu
SUMMARY:Priya Basu Candidate Seminar Honey-Bee and Pollinator health
DESCRIPTION:Join Zoom Meeting from PC\, Mac\, Linux\, iOS\, or Android: https://wsu.zoom.us/j/95257099144?pwd=bnBLa3VpcDQ3dk54Wlk3em9rOXA5UT09&from=addon\n\n\n \n\n\n\nMeeting ID: 952 5709 9144\n\n\nPasscode: 274719
URL:https://entomology.wsu.edu/event/priya-basu-candidate-seminar-honey-bee-and-pollinator-health/
LOCATION:FSHN 354\, Pullman
END:VEVENT
BEGIN:VEVENT
DTSTART;TZID=America/Los_Angeles:20240319T120000
DTEND;TZID=America/Los_Angeles:20240319T130000
DTSTAMP:20260425T035924
CREATED:20240311T205715Z
LAST-MODIFIED:20240311T205715Z
UID:58865-1710849600-1710853200@entomology.wsu.edu
SUMMARY:Gabriela Quinlan Honey-Bee and Pollinator Health Candidate Seminar
DESCRIPTION:Join Zoom Meeting from PC\, Mac\, Linux\, iOS\, or Android: https://wsu.zoom.us/j/93867257898?pwd=b0x3YVRJczkzYnMvN2JlU1RtM0Jpdz09&from=addon\n\n\n\n\n\n\nMeeting ID: 938 6725 7898\n\n\nPasscode: 115033
URL:https://entomology.wsu.edu/event/gabriela-quinlan-honey-bee-and-pollinator-health-candidate-seminar/
LOCATION:FSHN 354\, Pullman
END:VEVENT
BEGIN:VEVENT
DTSTART;TZID=America/Los_Angeles:20230926T140000
DTEND;TZID=America/Los_Angeles:20230926T140000
DTSTAMP:20260425T035924
CREATED:20230920T162852Z
LAST-MODIFIED:20230920T162852Z
UID:58788-1695736800-1695736800@entomology.wsu.edu
SUMMARY:Dr. Ashfaq Sial's Wenatchee seminar
DESCRIPTION:Seminar #1 for candidate Dr. Ashfaq Sial.\nZoom access: https://wsu.zoom.us/j/93306722100?pwd=NTE5d0hVVXdlRjBVMytBT3QvT1FyQT09\nMeeting ID: 933 0672 2100
URL:https://entomology.wsu.edu/event/dr-ashfaq-sials-seminar/
LOCATION:TFREC Large Conference Room\, Wenatchee
END:VEVENT
END:VCALENDAR